BEGIN:VCALENDAR
VERSION:2.0
PRODID:-//www.nplspa.org//NONSGML kigkonsult.se iCalcreator 2.30.10//
CALSCALE:GREGORIAN
METHOD:PUBLISH
UID:14d915a4-55b4-4786-84c7-0e92ec480124
X-WR-CALDESC:
X-WR-RELCALID:b84400f9e09943dcf38632f32079cf26
X-WR-TIMEZONE:America/New_York
BEGIN:VTIMEZONE
TZID:America/New_York
BEGIN:STANDARD
TZNAME:EST
DTSTART:20201101T020000
TZOFFSETFROM:-0400
TZOFFSETTO:-0500
RDATE:20211107T020000
RDATE:20221106T020000
END:STANDARD
BEGIN:DAYLIGHT
TZNAME:EDT
DTSTART:20210314T020000
TZOFFSETFROM:-0500
TZOFFSETTO:-0400
RDATE:20220313T020000
END:DAYLIGHT
END:VTIMEZONE
BEGIN:VEVENT
UID:47e5abc8-b865-4d7f-b499-e3fc48242417
DTSTAMP:20260421T123803Z
DESCRIPTION:
DTSTART;TZID=America/New_York:20210826T000000
DTEND;TZID=America/New_York:20210826T235900
LOCATION:
SUMMARY:Combined Executive and Audit/Finance Committee
END:VEVENT
END:VCALENDAR
