BEGIN:VCALENDAR
VERSION:2.0
PRODID:-//www.nplspa.org//NONSGML kigkonsult.se iCalcreator 2.30.10//
CALSCALE:GREGORIAN
METHOD:PUBLISH
UID:616750b0-3322-4b2d-9614-7833b8407d04
X-WR-CALDESC:NPLS will be presenting to the VHP Social Service team members
  on SSI basics and referrals for patients with social security disability 
 issues.
X-WR-RELCALID:d4d5f0730162cf0311d2ea9fd3e837dc
X-WR-TIMEZONE:America/New_York
BEGIN:VTIMEZONE
TZID:America/New_York
BEGIN:STANDARD
TZNAME:EST
DTSTART:20201101T020000
TZOFFSETFROM:-0400
TZOFFSETTO:-0500
RDATE:20211107T020000
RDATE:20221106T020000
END:STANDARD
BEGIN:DAYLIGHT
TZNAME:EDT
DTSTART:20210314T020000
TZOFFSETFROM:-0500
TZOFFSETTO:-0400
RDATE:20220313T020000
RDATE:20230312T020000
END:DAYLIGHT
END:VTIMEZONE
BEGIN:VEVENT
UID:be30b3dc-a852-4b87-9a56-e8a0bb0a8a93
DTSTAMP:20260421T111732Z
DESCRIPTION:NPLS will be presenting to the VHP Social Service team members 
 on SSI basics and referrals for patients with social security disability i
 ssues.
DTSTART;TZID=America/New_York:20210916T090000
DTEND;TZID=America/New_York:20210916T100000
LOCATION:Valley Health Partners - Allentown\, PA
SUMMARY:Private Outreach Event - Valley Health Partners - SSI Basics
END:VEVENT
END:VCALENDAR
