BEGIN:VCALENDAR
VERSION:2.0
PRODID:-//www.nplspa.org//NONSGML kigkonsult.se iCalcreator 2.30.10//
CALSCALE:GREGORIAN
METHOD:PUBLISH
UID:53a7d79a-cddb-42a1-a2fa-e4f52c477287
X-WR-CALDESC:
X-WR-RELCALID:c9437e10b8d9c4209069830a17699ba7
X-WR-TIMEZONE:America/New_York
BEGIN:VTIMEZONE
TZID:America/New_York
BEGIN:STANDARD
TZNAME:EST
DTSTART:20201101T020000
TZOFFSETFROM:-0400
TZOFFSETTO:-0500
RDATE:20211107T020000
RDATE:20221106T020000
END:STANDARD
BEGIN:DAYLIGHT
TZNAME:EDT
DTSTART:20210314T020000
TZOFFSETFROM:-0500
TZOFFSETTO:-0400
RDATE:20220313T020000
RDATE:20230312T020000
END:DAYLIGHT
END:VTIMEZONE
BEGIN:VEVENT
UID:59368382-88b9-498c-b878-f3db92affe9d
DTSTAMP:20260421T112122Z
DESCRIPTION:
DTSTART;TZID=America/New_York:20210923T000000
DTEND;TZID=America/New_York:20210923T235900
LOCATION:
SUMMARY:Combined Executive and Audit/Finance Committee
END:VEVENT
END:VCALENDAR
