BEGIN:VCALENDAR
VERSION:2.0
PRODID:-//www.nplspa.org//NONSGML kigkonsult.se iCalcreator 2.30.10//
CALSCALE:GREGORIAN
METHOD:PUBLISH
UID:41936bb9-9539-4e7f-bb40-1f2095415a9e
X-WR-CALDESC:Please join us for a free CLE on Thursday\, October 28 on Ethi
 cs of Pro Bono and the Changing Need During Disasters.\n\nThe pandemic has
  taught us that things change but the need for legal aid for the poor rema
 ins a constant.  At 3:00 p.m.\, join us to watch a wonderful film\, Strand
 s of Justice - The History of Civil Legal Aid in the United States.  At 3:
 30\, we will offer a one hour CLE\, at no cost to those who volunteer pro 
 bono service and promote that service within our service are. This remote 
 session will review ethical rules\, explore issues arising from operating 
 remotely\, and examine substantive areas that lend themselves to Pro Bono 
 opportunities\, including pandemic related unemployment\, representing vic
 tims of crime\, disaster related issues\, housing and rental assistance.  
 \n\nThis is a 1-hour Ethics CLE for pro bono attorneys.
X-WR-RELCALID:bbfc0a80d102d238e51368e558e40d7d
X-WR-TIMEZONE:America/New_York
BEGIN:VTIMEZONE
TZID:America/New_York
BEGIN:STANDARD
TZNAME:EST
DTSTART:20201101T020000
TZOFFSETFROM:-0400
TZOFFSETTO:-0500
RDATE:20211107T020000
RDATE:20221106T020000
END:STANDARD
BEGIN:DAYLIGHT
TZNAME:EDT
DTSTART:20210314T020000
TZOFFSETFROM:-0500
TZOFFSETTO:-0400
RDATE:20220313T020000
RDATE:20230312T020000
END:DAYLIGHT
END:VTIMEZONE
BEGIN:VEVENT
UID:da1a2c6b-2a4f-4075-8cb5-65dad93d9d46
DTSTAMP:20260421T084335Z
DESCRIPTION:Please join us for a free CLE on Thursday\, October 28 on Ethic
 s of Pro Bono and the Changing Need During Disasters.\n\nThe pandemic has 
 taught us that things change but the need for legal aid for the poor remai
 ns a constant.  At 3:00 p.m.\, join us to watch a wonderful film\, Strands
  of Justice - The History of Civil Legal Aid in the United States.  At 3:3
 0\, we will offer a one hour CLE\, at no cost to those who volunteer pro b
 ono service and promote that service within our service are. This remote s
 ession will review ethical rules\, explore issues arising from operating r
 emotely\, and examine substantive areas that lend themselves to Pro Bono o
 pportunities\, including pandemic related unemployment\, representing vict
 ims of crime\, disaster related issues\, housing and rental assistance.  
 \n\nThis is a 1-hour Ethics CLE for pro bono attorneys.
DTSTART;TZID=America/New_York:20211028T150000
DTEND;TZID=America/New_York:20211028T163000
LOCATION:https://tinyurl.com/ProBonoCLE
SUMMARY:CLE - Ethics of Pro Bono and the Changing Need During Disasters
END:VEVENT
END:VCALENDAR
