BEGIN:VCALENDAR
VERSION:2.0
PRODID:-//www.nplspa.org//NONSGML kigkonsult.se iCalcreator 2.30.10//
CALSCALE:GREGORIAN
METHOD:PUBLISH
UID:0d96c878-7cc8-4845-8887-1d20fc9a5fa0
X-WR-CALDESC:
X-WR-RELCALID:ffa20e98d0d43b6a929eb66a63dd50c9
X-WR-TIMEZONE:America/New_York
BEGIN:VTIMEZONE
TZID:America/New_York
BEGIN:STANDARD
TZNAME:EST
DTSTART:20211107T020000
TZOFFSETFROM:-0400
TZOFFSETTO:-0500
RDATE:20221106T020000
END:STANDARD
BEGIN:DAYLIGHT
TZNAME:EDT
DTSTART:20210314T020000
TZOFFSETFROM:-0500
TZOFFSETTO:-0400
RDATE:20220313T020000
RDATE:20230312T020000
END:DAYLIGHT
END:VTIMEZONE
BEGIN:VEVENT
UID:53b4926c-29af-4abc-bd1c-3a3febbc2677
DTSTAMP:20260419T124158Z
DESCRIPTION:
DTSTART;TZID=America/New_York:20211122T000000
DTEND;TZID=America/New_York:20211122T235900
LOCATION:
SUMMARY:Combined Executive and Audit/Finance Committee
END:VEVENT
END:VCALENDAR
