BEGIN:VCALENDAR
VERSION:2.0
PRODID:-//www.nplspa.org//NONSGML kigkonsult.se iCalcreator 2.30.10//
CALSCALE:GREGORIAN
METHOD:PUBLISH
UID:19b879dd-19a5-4725-b31b-df406e675e4a
X-WR-CALDESC:Homeowners are often threatened with losing their homes due to
  mistakes\, oversight\, or economic hardship in paying their local propert
 y taxes. We will discuss the various types of sales for delinquent taxes a
 uthorized by the Real Estate Tax Sale Law\, including upset sales and judi
 cial or “free and clear” sales\, and the various requirements that local t
 ax claim bureaus must meet—and often do not—in order for those sales to wi
 thstand a legal challenge. We will cover the basics as well as recent deve
 lopments in case law\, so participants do not need any prior knowledge\, b
 ut even seasoned advocates will come away with something new.\n\nThis is a
  2-credit Substantive CLE.
X-WR-RELCALID:f7411e24fe4b1c1eca6541838b86a370
X-WR-TIMEZONE:America/New_York
BEGIN:VTIMEZONE
TZID:America/New_York
BEGIN:STANDARD
TZNAME:EST
DTSTART:20211107T020000
TZOFFSETFROM:-0400
TZOFFSETTO:-0500
RDATE:20221106T020000
END:STANDARD
BEGIN:DAYLIGHT
TZNAME:EDT
DTSTART:20210314T020000
TZOFFSETFROM:-0500
TZOFFSETTO:-0400
RDATE:20220313T020000
RDATE:20230312T020000
END:DAYLIGHT
END:VTIMEZONE
BEGIN:VEVENT
UID:05ca5bd5-846a-455f-831c-eb1f24cb44a8
DTSTAMP:20260421T014905Z
DESCRIPTION:Homeowners are often threatened with losing their homes due to 
 mistakes\, oversight\, or economic hardship in paying their local property
  taxes. We will discuss the various types of sales for delinquent taxes au
 thorized by the Real Estate Tax Sale Law\, including upset sales and judic
 ial or “free and clear” sales\, and the various requirements that local ta
 x claim bureaus must meet—and often do not—in order for those sales to wit
 hstand a legal challenge. We will cover the basics as well as recent devel
 opments in case law\, so participants do not need any prior knowledge\, bu
 t even seasoned advocates will come away with something new.\n\nThis is a 
 2-credit Substantive CLE.
DTSTART;TZID=America/New_York:20220125T133000
DTEND;TZID=America/New_York:20220125T153000
LOCATION:https://bit.ly/TaxSaleCLE2022
SUMMARY:NPLS CLE: Attacking Tax Sales Under the Real Estate Tax Sale Law
END:VEVENT
END:VCALENDAR
