BEGIN:VCALENDAR
VERSION:2.0
PRODID:-//www.nplspa.org//NONSGML kigkonsult.se iCalcreator 2.30.10//
CALSCALE:GREGORIAN
METHOD:PUBLISH
UID:959a7fdf-64d8-4f8d-bfab-7ce7b60557fb
X-WR-CALDESC:
X-WR-RELCALID:f5716ff994e55debcf26ba7507380fa9
X-WR-TIMEZONE:America/New_York
BEGIN:VTIMEZONE
TZID:America/New_York
BEGIN:STANDARD
TZNAME:EST
DTSTART:20211107T020000
TZOFFSETFROM:-0400
TZOFFSETTO:-0500
RDATE:20221106T020000
END:STANDARD
BEGIN:DAYLIGHT
TZNAME:EDT
DTSTART:20210314T020000
TZOFFSETFROM:-0500
TZOFFSETTO:-0400
RDATE:20220313T020000
RDATE:20230312T020000
END:DAYLIGHT
END:VTIMEZONE
BEGIN:VEVENT
UID:4d5b7a80-282a-4ad1-a101-df269723eee5
DTSTAMP:20260421T132616Z
DESCRIPTION:
DTSTART;TZID=America/New_York:20220224T170000
DTEND;TZID=America/New_York:20220224T180000
LOCATION:
SUMMARY:Board of Directors - Executive and Audit-Finance Committees
END:VEVENT
END:VCALENDAR
