BEGIN:VCALENDAR
VERSION:2.0
PRODID:-//www.nplspa.org//NONSGML kigkonsult.se iCalcreator 2.30.10//
CALSCALE:GREGORIAN
METHOD:PUBLISH
UID:8c2ecab8-5bb6-4ab1-95cb-da26322093f8
X-WR-CALDESC:
X-WR-RELCALID:8fea0b5419209b31b47c4ebab1a9a810
X-WR-TIMEZONE:America/New_York
BEGIN:VTIMEZONE
TZID:America/New_York
BEGIN:STANDARD
TZNAME:EST
DTSTART:20211107T020000
TZOFFSETFROM:-0400
TZOFFSETTO:-0500
RDATE:20221106T020000
END:STANDARD
BEGIN:DAYLIGHT
TZNAME:EDT
DTSTART:20220313T020000
TZOFFSETFROM:-0500
TZOFFSETTO:-0400
RDATE:20230312T020000
END:DAYLIGHT
END:VTIMEZONE
BEGIN:VEVENT
UID:e818c9e0-5b32-4570-a14f-b4f64514d336
DTSTAMP:20260421T145051Z
DESCRIPTION:
DTSTART;TZID=America/New_York:20220324T170000
DTEND;TZID=America/New_York:20220324T180000
LOCATION:
SUMMARY:Board of Directors - General Meeting
END:VEVENT
END:VCALENDAR
