BEGIN:VCALENDAR
VERSION:2.0
PRODID:-//www.nplspa.org//NONSGML kigkonsult.se iCalcreator 2.30.10//
CALSCALE:GREGORIAN
METHOD:PUBLISH
UID:86c493d2-7315-4824-b842-2bc113a9dd21
X-WR-CALDESC:Lead poisoning is a serious problem for Pennsylvanians. Exposu
 re to lead from water pipes\, paint\, and dust causes irreversible brain d
 amage in young children. Renters in Pennsylvania are especially vulnerable
  when lead exposure is not prevented through robust property inspection an
 d enforcement laws. Learn about the scope of the problem\, and different t
 ypes of legal solutions that advocates have used to prevent lead poisoning
 . Public health officials will share resources for Lehigh Valley residents
  to mitigate lead exposure locally. Advocates from across the commonwealth
  will share their experiences passing lead safety ordinances in Philadelph
 ia\, Pittsburgh\, and other municipalities in Pennsylvania. Attorneys can 
 earn 2.5 hours of CLE credit for attending this virtual conference.\n\nThe
  2022 Healthy Homes Summit is made possible\, in part\, from a generous sp
 onsorship from Greater Lehigh Valley Realtors.
X-WR-RELCALID:e483df92e8f11b0c067965a1142a96f3
X-WR-TIMEZONE:America/New_York
BEGIN:VTIMEZONE
TZID:America/New_York
BEGIN:STANDARD
TZNAME:EST
DTSTART:20211107T020000
TZOFFSETFROM:-0400
TZOFFSETTO:-0500
RDATE:20221106T020000
END:STANDARD
BEGIN:DAYLIGHT
TZNAME:EDT
DTSTART:20220313T020000
TZOFFSETFROM:-0500
TZOFFSETTO:-0400
RDATE:20230312T020000
END:DAYLIGHT
END:VTIMEZONE
BEGIN:VEVENT
UID:63336be6-e30d-4145-b275-0bcc104d7b1b
DTSTAMP:20260421T162159Z
DESCRIPTION:Lead poisoning is a serious problem for Pennsylvanians. Exposur
 e to lead from water pipes\, paint\, and dust causes irreversible brain da
 mage in young children. Renters in Pennsylvania are especially vulnerable 
 when lead exposure is not prevented through robust property inspection and
  enforcement laws. Learn about the scope of the problem\, and different ty
 pes of legal solutions that advocates have used to prevent lead poisoning.
  Public health officials will share resources for Lehigh Valley residents 
 to mitigate lead exposure locally. Advocates from across the commonwealth 
 will share their experiences passing lead safety ordinances in Philadelphi
 a\, Pittsburgh\, and other municipalities in Pennsylvania. Attorneys can e
 arn 2.5 hours of CLE credit for attending this virtual conference.\n\nThe 
 2022 Healthy Homes Summit is made possible\, in part\, from a generous spo
 nsorship from Greater Lehigh Valley Realtors.
DTSTART;TZID=America/New_York:20220428T090000
DTEND;TZID=America/New_York:20220428T120000
LOCATION:https://tinyurl.com/LeadFreePA
SUMMARY:2022 Healthy Homes Summit: Developing Legal Strategies for a Lead-F
 ree Pennsylvania
END:VEVENT
END:VCALENDAR
