BEGIN:VCALENDAR
VERSION:2.0
PRODID:-//www.nplspa.org//NONSGML kigkonsult.se iCalcreator 2.30.10//
CALSCALE:GREGORIAN
METHOD:PUBLISH
UID:16daddd9-f906-429f-afdf-f5089e3f8271
X-WR-CALDESC:
X-WR-RELCALID:b9e75af9469bb2b5380370a120d455a2
X-WR-TIMEZONE:America/New_York
BEGIN:VTIMEZONE
TZID:America/New_York
BEGIN:STANDARD
TZNAME:EST
DTSTART:20211107T020000
TZOFFSETFROM:-0400
TZOFFSETTO:-0500
RDATE:20221106T020000
RDATE:20231105T020000
END:STANDARD
BEGIN:DAYLIGHT
TZNAME:EDT
DTSTART:20220313T020000
TZOFFSETFROM:-0500
TZOFFSETTO:-0400
RDATE:20230312T020000
END:DAYLIGHT
END:VTIMEZONE
BEGIN:VEVENT
UID:70826e1d-96e5-4292-921b-b6f6e4f9de97
DTSTAMP:20260421T191644Z
DESCRIPTION:
DTSTART;TZID=America/New_York:20220623T170000
DTEND;TZID=America/New_York:20220623T180000
LOCATION:
SUMMARY:Board of Directors - Executive and Audit-Finance Committees
END:VEVENT
END:VCALENDAR
