BEGIN:VCALENDAR
VERSION:2.0
PRODID:-//www.nplspa.org//NONSGML kigkonsult.se iCalcreator 2.30.10//
CALSCALE:GREGORIAN
METHOD:PUBLISH
UID:9b78bb7f-07c4-4581-82d2-470477a22df5
X-WR-CALDESC:
X-WR-RELCALID:08d3e69055eaed34316063e14bc118c0
X-WR-TIMEZONE:America/New_York
BEGIN:VTIMEZONE
TZID:America/New_York
BEGIN:STANDARD
TZNAME:EST
DTSTART:20211107T020000
TZOFFSETFROM:-0400
TZOFFSETTO:-0500
RDATE:20221106T020000
RDATE:20231105T020000
END:STANDARD
BEGIN:DAYLIGHT
TZNAME:EDT
DTSTART:20220313T020000
TZOFFSETFROM:-0500
TZOFFSETTO:-0400
RDATE:20230312T020000
END:DAYLIGHT
END:VTIMEZONE
BEGIN:VEVENT
UID:23cbc3d4-23e0-40ea-9562-9dfb95024a1e
DTSTAMP:20260421T204737Z
DESCRIPTION:
DTSTART;TZID=America/New_York:20220728T170000
DTEND;TZID=America/New_York:20220728T180000
LOCATION:
SUMMARY:Board of Directors - Executive and Audit-Finance Committees
END:VEVENT
END:VCALENDAR
