BEGIN:VCALENDAR
VERSION:2.0
PRODID:-//www.nplspa.org//NONSGML kigkonsult.se iCalcreator 2.30.10//
CALSCALE:GREGORIAN
METHOD:PUBLISH
UID:e858d3d3-f91f-4230-871b-840dd9f571d2
X-WR-CALDESC:
X-WR-RELCALID:f2118338da855a4f2da1db4757018634
X-WR-TIMEZONE:America/New_York
BEGIN:VTIMEZONE
TZID:America/New_York
BEGIN:STANDARD
TZNAME:EST
DTSTART:20211107T020000
TZOFFSETFROM:-0400
TZOFFSETTO:-0500
RDATE:20221106T020000
RDATE:20231105T020000
END:STANDARD
BEGIN:DAYLIGHT
TZNAME:EDT
DTSTART:20220313T020000
TZOFFSETFROM:-0500
TZOFFSETTO:-0400
RDATE:20230312T020000
END:DAYLIGHT
END:VTIMEZONE
BEGIN:VEVENT
UID:4d6639e5-b6e9-4ec7-9526-dce75de450e0
DTSTAMP:20260421T220622Z
DESCRIPTION:
DTSTART;TZID=America/New_York:20220825T170000
DTEND;TZID=America/New_York:20220825T180000
LOCATION:
SUMMARY:Board of Directors - Executive and Audit-Finance Committees
END:VEVENT
END:VCALENDAR
