BEGIN:VCALENDAR
VERSION:2.0
PRODID:-//www.nplspa.org//NONSGML kigkonsult.se iCalcreator 2.30.10//
CALSCALE:GREGORIAN
METHOD:PUBLISH
UID:128bf61a-939d-4591-b4c7-f71ca388cb9c
X-WR-CALDESC:
X-WR-RELCALID:c96f66e7d70876aa45d6e811c7672345
X-WR-TIMEZONE:America/New_York
BEGIN:VTIMEZONE
TZID:America/New_York
BEGIN:STANDARD
TZNAME:EST
DTSTART:20211107T020000
TZOFFSETFROM:-0400
TZOFFSETTO:-0500
RDATE:20221106T020000
RDATE:20231105T020000
END:STANDARD
BEGIN:DAYLIGHT
TZNAME:EDT
DTSTART:20220313T020000
TZOFFSETFROM:-0500
TZOFFSETTO:-0400
RDATE:20230312T020000
RDATE:20240310T020000
END:DAYLIGHT
END:VTIMEZONE
BEGIN:VEVENT
UID:2d51d5de-25ab-44ba-b81d-55b979784894
DTSTAMP:20260421T233246Z
DESCRIPTION:
DTSTART;TZID=America/New_York:20220922T170000
DTEND;TZID=America/New_York:20220922T180000
LOCATION:
SUMMARY:Board of Directors - Executive and Audit-Finance Committees
END:VEVENT
END:VCALENDAR
