BEGIN:VCALENDAR
VERSION:2.0
PRODID:-//www.nplspa.org//NONSGML kigkonsult.se iCalcreator 2.30.10//
CALSCALE:GREGORIAN
METHOD:PUBLISH
UID:d898fadf-6522-4685-bb5c-bebcb6b12a71
X-WR-CALDESC:COURSE DESCRIPTION\nNPLS is hosting a CLE panel discussion foc
 used on tenants’ access to counsel in landlord/tenant proceedings. Topics 
 will include:\n•	A review of reports from the Lehigh Valley Justice Institu
 te regarding how having access to counsel affects tenants' outcomes on evi
 ction matters in our area (Lehigh and Northampton Counties). \n•	A discussi
 on about the partnership between the Legal Aid of Southeastern PA and othe
 r organizations in Montgomery County on their efforts to address evictions
  through the Eviction Prevention Intervention Coalition (EPIC).\n•	An overv
 iew of a judge’s perspective in Montgomery County regarding landlord/tenan
 t matters.\n•	A review of eviction diversion and mediation as an effective 
 element of Right to Counsel projects in Pennsylvania.\n \nPRESENTERS\nMagi
 sterial District Judge Edward Levine\, Esq.\nMichelle Dempsky\, Esq. – Leg
 al Aid of Southeastern Pennsylvania (LASP)\nJoseph E. Welsh\, Esq. – Lehig
 h Valley Justice Institute (LVJI)\nA Representative from CORA Good Shepher
 d Mediation in Philadelphia
X-WR-RELCALID:515680eda4318b2dfc5605573f11f1b3
X-WR-TIMEZONE:America/New_York
BEGIN:VTIMEZONE
TZID:America/New_York
BEGIN:STANDARD
TZNAME:EST
DTSTART:20221106T020000
TZOFFSETFROM:-0400
TZOFFSETTO:-0500
RDATE:20231105T020000
END:STANDARD
BEGIN:DAYLIGHT
TZNAME:EDT
DTSTART:20230312T020000
TZOFFSETFROM:-0500
TZOFFSETTO:-0400
RDATE:20240310T020000
END:DAYLIGHT
END:VTIMEZONE
BEGIN:VEVENT
UID:042a6199-a9e9-411b-ab3e-e531cca65edc
DTSTAMP:20260426T023024Z
DESCRIPTION:COURSE DESCRIPTION\nNPLS is hosting a CLE panel discussion focu
 sed on tenants’ access to counsel in landlord/tenant proceedings. Topics w
 ill include:\n•	A review of reports from the Lehigh Valley Justice Institut
 e regarding how having access to counsel affects tenants' outcomes on evic
 tion matters in our area (Lehigh and Northampton Counties). \n•	A discussio
 n about the partnership between the Legal Aid of Southeastern PA and other
  organizations in Montgomery County on their efforts to address evictions 
 through the Eviction Prevention Intervention Coalition (EPIC).\n•	An overvi
 ew of a judge’s perspective in Montgomery County regarding landlord/tenant
  matters.\n•	A review of eviction diversion and mediation as an effective e
 lement of Right to Counsel projects in Pennsylvania.\n \nPRESENTERS\nMagis
 terial District Judge Edward Levine\, Esq.\nMichelle Dempsky\, Esq. – Lega
 l Aid of Southeastern Pennsylvania (LASP)\nJoseph E. Welsh\, Esq. – Lehigh
  Valley Justice Institute (LVJI)\nA Representative from CORA Good Shepherd
  Mediation in Philadelphia
DTSTART;TZID=America/New_York:20230414T130000
DTEND;TZID=America/New_York:20230414T143000
LOCATION:https://tinyurl.com/TippingScales
SUMMARY:Right to Counsel in Eviction Cases: Tipping the Scales Toward Justi
 ce
END:VEVENT
END:VCALENDAR
