BEGIN:VCALENDAR
VERSION:2.0
PRODID:-//www.nplspa.org//NONSGML kigkonsult.se iCalcreator 2.30.10//
CALSCALE:GREGORIAN
METHOD:PUBLISH
UID:f36922bd-f982-40d8-a7fc-8444fef16d23
X-WR-CALDESC:NPLS will provide information at this free event for seniors.
 \n\nThe expo will feature dozens of exhibitors from the Carbon County area
 . In addition\, a prescription drug drop-off box will be on-site for senio
 rs to dispose of their unwanted or expired medications.
X-WR-RELCALID:276edda242addb7803bc2aae6b82290b
X-WR-TIMEZONE:America/New_York
BEGIN:VTIMEZONE
TZID:America/New_York
BEGIN:STANDARD
TZNAME:EST
DTSTART:20221106T020000
TZOFFSETFROM:-0400
TZOFFSETTO:-0500
RDATE:20231105T020000
RDATE:20241103T020000
END:STANDARD
BEGIN:DAYLIGHT
TZNAME:EDT
DTSTART:20230312T020000
TZOFFSETFROM:-0500
TZOFFSETTO:-0400
RDATE:20240310T020000
END:DAYLIGHT
END:VTIMEZONE
BEGIN:VEVENT
UID:5eeb6d77-dd1f-449a-9b00-48ccab31958d
DTSTAMP:20260421T041915Z
DESCRIPTION:NPLS will provide information at this free event for seniors.\n
 \nThe expo will feature dozens of exhibitors from the Carbon County area. 
 In addition\, a prescription drug drop-off box will be on-site for seniors
  to dispose of their unwanted or expired medications.
DTSTART;TZID=America/New_York:20230906T100000
DTEND;TZID=America/New_York:20230906T130000
LOCATION:Franklin Township Fire Company\, 2440 Fairyland Road\, Lehighton\,
  PA 18235 US
SUMMARY:NPLS at the Carbon County Senior Expo
END:VEVENT
END:VCALENDAR
