BEGIN:VCALENDAR
VERSION:2.0
PRODID:-//www.nplspa.org//NONSGML kigkonsult.se iCalcreator 2.30.10//
CALSCALE:GREGORIAN
METHOD:PUBLISH
UID:6cac5130-d502-4376-9510-561116a251b2
X-WR-CALDESC:Join North Penn Legal Services in partnership with Pennsylvani
 a CareerLink® Lehigh Valley for an in-person workshop on the Clean Slate L
 aw. This workshop will discuss the Clean Slate Law in Pennsylvania\, recor
 d expungement\, the Federal Bonding Program\, and more! The workshop will 
 start promptly at 2:00 P.M. However\, there will be a 15 minute grace peri
 od until 2:15 P.M. for late arrivals.
X-WR-RELCALID:335fabbeab22f606d7dec0b6ed5cee35
X-WR-TIMEZONE:America/New_York
BEGIN:VTIMEZONE
TZID:America/New_York
BEGIN:STANDARD
TZNAME:EST
DTSTART:20221106T020000
TZOFFSETFROM:-0400
TZOFFSETTO:-0500
RDATE:20231105T020000
RDATE:20241103T020000
END:STANDARD
BEGIN:DAYLIGHT
TZNAME:EDT
DTSTART:20230312T020000
TZOFFSETFROM:-0500
TZOFFSETTO:-0400
RDATE:20240310T020000
RDATE:20250309T020000
END:DAYLIGHT
END:VTIMEZONE
BEGIN:VEVENT
UID:15985ec0-b7f2-4ef1-8ac7-007834815521
DTSTAMP:20260421T040741Z
DESCRIPTION:Join North Penn Legal Services in partnership with Pennsylvania
  CareerLink® Lehigh Valley for an in-person workshop on the Clean Slate La
 w. This workshop will discuss the Clean Slate Law in Pennsylvania\, record
  expungement\, the Federal Bonding Program\, and more! The workshop will s
 tart promptly at 2:00 P.M. However\, there will be a 15 minute grace perio
 d until 2:15 P.M. for late arrivals.
DTSTART;TZID=America/New_York:20230921T140000
DTEND;TZID=America/New_York:20230921T150000
LOCATION:PA CareerLink Lehigh Valley\, 555 Union Blvd.\, Allentown\, PA 181
 09 US
SUMMARY:NPLS at CareerLink Lehigh Valley - Clean Slate Law
END:VEVENT
END:VCALENDAR
