BEGIN:VCALENDAR
VERSION:2.0
PRODID:-//www.nplspa.org//NONSGML kigkonsult.se iCalcreator 2.30.10//
CALSCALE:GREGORIAN
METHOD:PUBLISH
UID:28ddf4ab-3cf7-4be5-be49-634b8f40f4af
X-WR-CALDESC:NPLS will provide information at this event.\n\nRecovery Fest 
 is a free community event being organized by Northumberland County Behavio
 ral Health\, Drug & Alcohol and Intellectual Disabilities on September 22n
 d from 11:00 am to 3:00 pm. It is being held at Shikellamy State Park Mari
 na in Sunbury.\n\nThe event will include a walk\, various resources\, info
 rmation vendors and other activities in order to support individuals and f
 amilies in recovery\, promote the positive effects of recovery\, and incre
 ase mental health\, intellectual disability and addiction awareness.\n\nTh
 e walk registration will be at 11am\, with the walk starting at 11:30am. M
 eet at Pavilion 2\, Shikellamy State Park Marina.
X-WR-RELCALID:ec927b3cc4872082baee0d3d0ccfc42b
X-WR-TIMEZONE:America/New_York
BEGIN:VTIMEZONE
TZID:America/New_York
BEGIN:STANDARD
TZNAME:EST
DTSTART:20221106T020000
TZOFFSETFROM:-0400
TZOFFSETTO:-0500
RDATE:20231105T020000
RDATE:20241103T020000
END:STANDARD
BEGIN:DAYLIGHT
TZNAME:EDT
DTSTART:20230312T020000
TZOFFSETFROM:-0500
TZOFFSETTO:-0400
RDATE:20240310T020000
RDATE:20250309T020000
END:DAYLIGHT
END:VTIMEZONE
BEGIN:VEVENT
UID:3c5b8c16-7016-487d-b891-62df7beddaf8
DTSTAMP:20260421T041106Z
DESCRIPTION:NPLS will provide information at this event.\n\nRecovery Fest i
 s a free community event being organized by Northumberland County Behavior
 al Health\, Drug & Alcohol and Intellectual Disabilities on September 22nd
  from 11:00 am to 3:00 pm. It is being held at Shikellamy State Park Marin
 a in Sunbury.\n\nThe event will include a walk\, various resources\, infor
 mation vendors and other activities in order to support individuals and fa
 milies in recovery\, promote the positive effects of recovery\, and increa
 se mental health\, intellectual disability and addiction awareness.\n\nThe
  walk registration will be at 11am\, with the walk starting at 11:30am. Me
 et at Pavilion 2\, Shikellamy State Park Marina.
DTSTART;TZID=America/New_York:20230922T110000
DTEND;TZID=America/New_York:20230922T150000
LOCATION:Shikellamy State Park Marina\, 401 Bridge Ave.\, Sunbury\, PA 1780
 1 US
SUMMARY:NPLS at Recovery Fest - Northumberland County
END:VEVENT
END:VCALENDAR
