BEGIN:VCALENDAR
VERSION:2.0
PRODID:-//www.nplspa.org//NONSGML kigkonsult.se iCalcreator 2.30.10//
CALSCALE:GREGORIAN
METHOD:PUBLISH
UID:6436f8e7-d542-419a-8871-8cfda2af73ac
X-WR-CALDESC:NPLS presentation about Clean Slate\, Expungements\, and Pardo
 ns.
X-WR-RELCALID:2a4607b8a54d1528753b5c71a10830ff
X-WR-TIMEZONE:America/New_York
BEGIN:VTIMEZONE
TZID:America/New_York
BEGIN:STANDARD
TZNAME:EST
DTSTART:20221106T020000
TZOFFSETFROM:-0400
TZOFFSETTO:-0500
RDATE:20231105T020000
RDATE:20241103T020000
END:STANDARD
BEGIN:DAYLIGHT
TZNAME:EDT
DTSTART:20230312T020000
TZOFFSETFROM:-0500
TZOFFSETTO:-0400
RDATE:20240310T020000
RDATE:20250309T020000
END:DAYLIGHT
END:VTIMEZONE
BEGIN:VEVENT
UID:2b630cc2-8db2-44ee-af23-86ad16a721f6
DTSTAMP:20260421T040812Z
DESCRIPTION:NPLS presentation about Clean Slate\, Expungements\, and Pardon
 s.
DTSTART;TZID=America/New_York:20230925T000000
DTEND;TZID=America/New_York:20230925T235900
LOCATION:
SUMMARY:NPLS at Salvation Army - Allentown
END:VEVENT
END:VCALENDAR
