BEGIN:VCALENDAR
VERSION:2.0
PRODID:-//www.nplspa.org//NONSGML kigkonsult.se iCalcreator 2.30.10//
CALSCALE:GREGORIAN
METHOD:PUBLISH
UID:ddc4bfb3-89f9-4525-8347-03bd68f0a19a
X-WR-CALDESC:General discussion of tenant topics.
X-WR-RELCALID:0ec5f9527fba24e30541495a3478fac5
X-WR-TIMEZONE:America/New_York
BEGIN:VTIMEZONE
TZID:America/New_York
BEGIN:STANDARD
TZNAME:EST
DTSTART:20221106T020000
TZOFFSETFROM:-0400
TZOFFSETTO:-0500
RDATE:20231105T020000
RDATE:20241103T020000
END:STANDARD
BEGIN:DAYLIGHT
TZNAME:EDT
DTSTART:20230312T020000
TZOFFSETFROM:-0500
TZOFFSETTO:-0400
RDATE:20240310T020000
RDATE:20250309T020000
END:DAYLIGHT
END:VTIMEZONE
BEGIN:VEVENT
UID:04b0df43-12e6-4ac3-b771-df9a86a0c7c4
DTSTAMP:20260421T040543Z
DESCRIPTION:General discussion of tenant topics.
DTSTART;TZID=America/New_York:20230928T000000
DTEND;TZID=America/New_York:20230928T235900
LOCATION:
SUMMARY:NPLS at Luzerne County Housing Authority
END:VEVENT
END:VCALENDAR
