BEGIN:VCALENDAR
VERSION:2.0
PRODID:-//www.nplspa.org//NONSGML kigkonsult.se iCalcreator 2.30.10//
CALSCALE:GREGORIAN
METHOD:PUBLISH
UID:50cbe957-45d0-41db-a166-97cfdcf10da9
X-WR-CALDESC:NPLS will present information about Public Benefits\, How to A
 pply\, and different services available.
X-WR-RELCALID:9f4b740bf2437a2d853d0b22ceae3c8f
X-WR-TIMEZONE:America/New_York
BEGIN:VTIMEZONE
TZID:America/New_York
BEGIN:STANDARD
TZNAME:EST
DTSTART:20221106T020000
TZOFFSETFROM:-0400
TZOFFSETTO:-0500
RDATE:20231105T020000
RDATE:20241103T020000
END:STANDARD
BEGIN:DAYLIGHT
TZNAME:EDT
DTSTART:20230312T020000
TZOFFSETFROM:-0500
TZOFFSETTO:-0400
RDATE:20240310T020000
RDATE:20250309T020000
END:DAYLIGHT
END:VTIMEZONE
BEGIN:VEVENT
UID:13da890f-4a33-43b0-9fc2-64100244cfae
DTSTAMP:20260421T040644Z
DESCRIPTION:NPLS will present information about Public Benefits\, How to Ap
 ply\, and different services available.
DTSTART;TZID=America/New_York:20230929T000000
DTEND;TZID=America/New_York:20230929T235900
LOCATION:
SUMMARY:NPLS at Luzerne Housing Authority
END:VEVENT
END:VCALENDAR
