BEGIN:VCALENDAR
VERSION:2.0
PRODID:-//www.nplspa.org//NONSGML kigkonsult.se iCalcreator 2.30.10//
CALSCALE:GREGORIAN
METHOD:PUBLISH
UID:46d28b80-587f-4eec-9a94-bf8cd68f92a2
X-WR-CALDESC:Handling Custody Cases for Legal Aid Attorneys\nOctober 18\, 2
 023 from 1:00-3:00 p.m.\n2 Substantive CLE Credits\n\nThis distance-learni
 ng CLE is presented by North Penn Legal Services.\n\nSpecifically tailored
  to new attorneys or seasoned practitioners who have little to no experien
 ce in family law\, this presentation will provide a solid framework for ev
 aluating custody cases. Topics covered will include an overview of types o
 f filing and procedures\, remedies\, jurisdiction\, third party standing\,
  and other special issues. Focus will be given to advising pro se litigant
 s\, issue spotting\, assessing the merits of a case\, and factors to consi
 der when determining the scope of services to be provided.\n\nPlease join 
 us for this virtual CLE\, presented at no-charge as part of our extended P
 ro Bono Week celebrations.\n\nPRESENTER BIO\n\nDyan Dinstel\, Esq.\nStaff 
 Attorney\, North Penn Legal Services\n\nDyan Dinstel came to North Penn Le
 gal Services in October 2019 after working for the Domestic Violence Servi
 ce Center’s Civil Legal Representation Project\, where she served as Super
 vising Attorney. She handles primarily custody and domestic violence matte
 rs. Prior to her leap into public service\, she spent seven years as Assoc
 iate Counsel for Northeast Revenue Service\, LLC.\, where she litigated ta
 x sales and oversaw legal compliance in five counties.\n\nDyan received he
 r J.D. from St. John’s School of Law in 2009 and her B.A. from Temple Univ
 ersity in 2004.
X-WR-RELCALID:317cf097fc44cd00835784879825dc91
X-WR-TIMEZONE:America/New_York
BEGIN:VTIMEZONE
TZID:America/New_York
BEGIN:STANDARD
TZNAME:EST
DTSTART:20221106T020000
TZOFFSETFROM:-0400
TZOFFSETTO:-0500
RDATE:20231105T020000
RDATE:20241103T020000
END:STANDARD
BEGIN:DAYLIGHT
TZNAME:EDT
DTSTART:20230312T020000
TZOFFSETFROM:-0500
TZOFFSETTO:-0400
RDATE:20240310T020000
RDATE:20250309T020000
END:DAYLIGHT
END:VTIMEZONE
BEGIN:VEVENT
UID:ea8aeed2-6c6a-4f64-9cde-27b3ce17f37a
DTSTAMP:20260421T023615Z
DESCRIPTION:Handling Custody Cases for Legal Aid Attorneys\nOctober 18\, 20
 23 from 1:00-3:00 p.m.\n2 Substantive CLE Credits\n\nThis distance-learnin
 g CLE is presented by North Penn Legal Services.\n\nSpecifically tailored 
 to new attorneys or seasoned practitioners who have little to no experienc
 e in family law\, this presentation will provide a solid framework for eva
 luating custody cases. Topics covered will include an overview of types of
  filing and procedures\, remedies\, jurisdiction\, third party standing\, 
 and other special issues. Focus will be given to advising pro se litigants
 \, issue spotting\, assessing the merits of a case\, and factors to consid
 er when determining the scope of services to be provided.\n\nPlease join u
 s for this virtual CLE\, presented at no-charge as part of our extended Pr
 o Bono Week celebrations.\n\nPRESENTER BIO\n\nDyan Dinstel\, Esq.\nStaff A
 ttorney\, North Penn Legal Services\n\nDyan Dinstel came to North Penn Leg
 al Services in October 2019 after working for the Domestic Violence Servic
 e Center’s Civil Legal Representation Project\, where she served as Superv
 ising Attorney. She handles primarily custody and domestic violence matter
 s. Prior to her leap into public service\, she spent seven years as Associ
 ate Counsel for Northeast Revenue Service\, LLC.\, where she litigated tax
  sales and oversaw legal compliance in five counties.\n\nDyan received her
  J.D. from St. John’s School of Law in 2009 and her B.A. from Temple Unive
 rsity in 2004.
DTSTART;TZID=America/New_York:20231018T130000
DTEND;TZID=America/New_York:20231018T150000
LOCATION:https://tinyurl.com/CustodyBasics2023
SUMMARY:Virtual CLE - Handling Custody Cases for Legal Aid Attorneys
END:VEVENT
END:VCALENDAR
