BEGIN:VCALENDAR
VERSION:2.0
PRODID:-//www.nplspa.org//NONSGML kigkonsult.se iCalcreator 2.30.10//
CALSCALE:GREGORIAN
METHOD:PUBLISH
UID:9a0664ff-99fc-44db-9608-8984eb15d3f7
X-WR-CALDESC:Tenant Rights and Drafting an Enforceable Lease\nOctober 26\, 
 2023 at 1:00 p.m.\n1 Substantive CLE Credits\n\nThis distance-learning CLE
  is presented by North Penn Legal Services.\n\nThis presentation provides 
 practical insights into legal requirements\, key clauses\, and best practi
 ces for drafting residential leases that protect the interests of both lan
 dlords and tenants. Participants will learn through real-life examples of 
 legally enforceable provisions for eviction notices\, maintenance obligati
 ons\, and changes in property ownership. This CLE session equips legal pra
 ctitioners with the skills needed to produce clear\, enforceable\, and fai
 r lease agreements that minimize potential disputes and legal challenges.
 \n\nPlease join us for this virtual CLE\, presented at no-charge as part o
 f our Pro Bono Week celebrations. \n\n\nPRESENTER BIOS\n\nStephanie Wolak-
 Fleming\, Esq.\nStaff Attorney\, North Penn Legal Services\n\nStephanie Wo
 lak-Fleming\, Esq. represents Tioga\, Lycoming\, and Clinton county client
 s in variety of civil cases at both magisterial district justice court and
  court of common pleas levels in matters relating to housing\, consumer\, 
 and family law. Stephanie received her B.A. from University at Albany and 
 her J.D. from Duquesne School of Law where she was presented Duquesne's La
 w School Mission Award upon graduation. She is admitted to practice in New
  York and Pennsylvania. \n\nStephen A. Fernando\, Esq.\nStaff Attorney\, N
 orth Penn Legal Services\n\nAfter graduating from law school\, Stephen and
  his family moved to North Carolina where he practiced for a mid-sized gen
 eral practice law firm. In 2018\, he and his family returned to Northeaste
 rn Pennsylvania where he grew up and he immediately joined North Penn Lega
 l Services as a full-time attorney.\n\nStephen received his J.D. from Duqu
 esne University School of Law in 2015 and his B.A. from the University of 
 Scranton.
X-WR-RELCALID:47cace4f883c6f5ea361ad6af57e2680
X-WR-TIMEZONE:America/New_York
BEGIN:VTIMEZONE
TZID:America/New_York
BEGIN:STANDARD
TZNAME:EST
DTSTART:20221106T020000
TZOFFSETFROM:-0400
TZOFFSETTO:-0500
RDATE:20231105T020000
RDATE:20241103T020000
END:STANDARD
BEGIN:DAYLIGHT
TZNAME:EDT
DTSTART:20230312T020000
TZOFFSETFROM:-0500
TZOFFSETTO:-0400
RDATE:20240310T020000
RDATE:20250309T020000
END:DAYLIGHT
END:VTIMEZONE
BEGIN:VEVENT
UID:19b24584-db8b-4d5c-8475-121b74a89766
DTSTAMP:20260421T024408Z
DESCRIPTION:Tenant Rights and Drafting an Enforceable Lease\nOctober 26\, 2
 023 at 1:00 p.m.\n1 Substantive CLE Credits\n\nThis distance-learning CLE 
 is presented by North Penn Legal Services.\n\nThis presentation provides p
 ractical insights into legal requirements\, key clauses\, and best practic
 es for drafting residential leases that protect the interests of both land
 lords and tenants. Participants will learn through real-life examples of l
 egally enforceable provisions for eviction notices\, maintenance obligatio
 ns\, and changes in property ownership. This CLE session equips legal prac
 titioners with the skills needed to produce clear\, enforceable\, and fair
  lease agreements that minimize potential disputes and legal challenges.\n
 \nPlease join us for this virtual CLE\, presented at no-charge as part of 
 our Pro Bono Week celebrations. \n\n\nPRESENTER BIOS\n\nStephanie Wolak-Fl
 eming\, Esq.\nStaff Attorney\, North Penn Legal Services\n\nStephanie Wola
 k-Fleming\, Esq. represents Tioga\, Lycoming\, and Clinton county clients 
 in variety of civil cases at both magisterial district justice court and c
 ourt of common pleas levels in matters relating to housing\, consumer\, an
 d family law. Stephanie received her B.A. from University at Albany and he
 r J.D. from Duquesne School of Law where she was presented Duquesne's Law 
 School Mission Award upon graduation. She is admitted to practice in New Y
 ork and Pennsylvania. \n\nStephen A. Fernando\, Esq.\nStaff Attorney\, Nor
 th Penn Legal Services\n\nAfter graduating from law school\, Stephen and h
 is family moved to North Carolina where he practiced for a mid-sized gener
 al practice law firm. In 2018\, he and his family returned to Northeastern
  Pennsylvania where he grew up and he immediately joined North Penn Legal 
 Services as a full-time attorney.\n\nStephen received his J.D. from Duques
 ne University School of Law in 2015 and his B.A. from the University of Sc
 ranton.
DTSTART;TZID=America/New_York:20231026T130000
DTEND;TZID=America/New_York:20231026T140000
LOCATION:https://tinyurl.com/TenantsRights2023
SUMMARY:Virtual CLE - Tenant Rights and Drafting an Enforceable Lease
END:VEVENT
END:VCALENDAR
