BEGIN:VCALENDAR
VERSION:2.0
PRODID:-//www.nplspa.org//NONSGML kigkonsult.se iCalcreator 2.30.10//
CALSCALE:GREGORIAN
METHOD:PUBLISH
UID:782f1cc0-1f4a-4ef6-a059-76895fba0aa2
X-WR-CALDESC:The Tax Implications of Estate Planning\nOctober 26\, 2023 at 
 3:00 p.m.\n1 Substantive CLE Credits\n\nThis distance-learning CLE is pres
 ented by North Penn Legal Services.\n\nThis presentation provides an overv
 iew of Estate Planning and Tax Planning Considerations and Procedures\, in
 cluding Gifting and Exemptions\, Pennsylvania Inheritance Tax Matters\, Fe
 deral Estate Tax Matters\, and Pennsylvania and Federal Income Taxes.\n\nP
 lease join us for this virtual CLE\, presented at no-charge as part of our
  Pro Bono Week celebrations.\n\nPRESENTER BIO\nJohn J. McGovern\, Jr.\, Es
 q.\, CPA Sole-Proprietor – John J. McGovern\, Jr.\, Esq.\, CPA\nBoard Trea
 surer\, North Penn Legal Services\n\nJohn J. McGovern\, Jr. provides legal
  representation for Estate Planning and Administration\, Tax Controversies
  and Preparation\, Securities Litigation and Arbitration\, and other matte
 rs. His professional career as a CPA and Attorney spans nearly 30 years\, 
 starting as a Special Agent in the Criminal Investigation Division of the 
 Internal Revenue Service. He has been sole-proprietor of his firm since 20
 04. John currently serves as Treasurer of the NPLS Board of Directors.\n\n
 John received his B.A. in Accounting from Holy Family University and his J
 .D. from Villanova University School of Law.\n
X-WR-RELCALID:b622c4dbbce2e55aca936a8168c1b917
X-WR-TIMEZONE:America/New_York
BEGIN:VTIMEZONE
TZID:America/New_York
BEGIN:STANDARD
TZNAME:EST
DTSTART:20221106T020000
TZOFFSETFROM:-0400
TZOFFSETTO:-0500
RDATE:20231105T020000
RDATE:20241103T020000
END:STANDARD
BEGIN:DAYLIGHT
TZNAME:EDT
DTSTART:20230312T020000
TZOFFSETFROM:-0500
TZOFFSETTO:-0400
RDATE:20240310T020000
RDATE:20250309T020000
END:DAYLIGHT
END:VTIMEZONE
BEGIN:VEVENT
UID:8daef22b-d89d-4b89-9ffa-ca0bdaf0e7df
DTSTAMP:20260421T024831Z
DESCRIPTION:The Tax Implications of Estate Planning\nOctober 26\, 2023 at 3
 :00 p.m.\n1 Substantive CLE Credits\n\nThis distance-learning CLE is prese
 nted by North Penn Legal Services.\n\nThis presentation provides an overvi
 ew of Estate Planning and Tax Planning Considerations and Procedures\, inc
 luding Gifting and Exemptions\, Pennsylvania Inheritance Tax Matters\, Fed
 eral Estate Tax Matters\, and Pennsylvania and Federal Income Taxes.\n\nPl
 ease join us for this virtual CLE\, presented at no-charge as part of our 
 Pro Bono Week celebrations.\n\nPRESENTER BIO\nJohn J. McGovern\, Jr.\, Esq
 .\, CPA Sole-Proprietor – John J. McGovern\, Jr.\, Esq.\, CPA\nBoard Treas
 urer\, North Penn Legal Services\n\nJohn J. McGovern\, Jr. provides legal 
 representation for Estate Planning and Administration\, Tax Controversies 
 and Preparation\, Securities Litigation and Arbitration\, and other matter
 s. His professional career as a CPA and Attorney spans nearly 30 years\, s
 tarting as a Special Agent in the Criminal Investigation Division of the I
 nternal Revenue Service. He has been sole-proprietor of his firm since 200
 4. John currently serves as Treasurer of the NPLS Board of Directors.\n\nJ
 ohn received his B.A. in Accounting from Holy Family University and his J.
 D. from Villanova University School of Law.\n
DTSTART;TZID=America/New_York:20231026T150000
DTEND;TZID=America/New_York:20231026T160000
LOCATION:https://tinyurl.com/TaxesandEstates2023
SUMMARY:Virtual CLE - The Tax Implications of Estate Planning
END:VEVENT
END:VCALENDAR
