BEGIN:VCALENDAR
VERSION:2.0
PRODID:-//www.nplspa.org//NONSGML kigkonsult.se iCalcreator 2.30.10//
CALSCALE:GREGORIAN
METHOD:PUBLISH
UID:c10e075b-f48d-4f20-b113-325e26aad02d
X-WR-CALDESC:This is a 3-credit substantive CLE training course being offer
 ed free to pro bono attorneys as a part of National Pro Bono Week. \n\n(At
 torneys and paralegals who do not participate in the pro bono program at N
 PLS can attend the training for a $45 fee).
X-WR-RELCALID:1b48f48558905e145bcda45a8b127f7b
X-WR-TIMEZONE:America/New_York
BEGIN:VTIMEZONE
TZID:America/New_York
BEGIN:STANDARD
TZNAME:EST
DTSTART:20221106T020000
TZOFFSETFROM:-0400
TZOFFSETTO:-0500
RDATE:20231105T020000
RDATE:20241103T020000
END:STANDARD
BEGIN:DAYLIGHT
TZNAME:EDT
DTSTART:20230312T020000
TZOFFSETFROM:-0500
TZOFFSETTO:-0400
RDATE:20240310T020000
RDATE:20250309T020000
END:DAYLIGHT
END:VTIMEZONE
BEGIN:VEVENT
UID:c68b4b50-5a59-4fde-bab3-3ad843994171
DTSTAMP:20260421T023802Z
DESCRIPTION:This is a 3-credit substantive CLE training course being offere
 d free to pro bono attorneys as a part of National Pro Bono Week. \n\n(Att
 orneys and paralegals who do not participate in the pro bono program at NP
 LS can attend the training for a $45 fee).
DTSTART;TZID=America/New_York:20231027T130000
DTEND;TZID=America/New_York:20231027T160000
LOCATION:First Community Foundation Partnership Philanthropy Center\, 201 W
 est 4th Street\, Williamsport\, PA 17701 US
SUMMARY:In-Person CLE - Williamsport - Pennsylvania’s Protection from Abuse
  and Sexual Violence and Intimidation Acts
END:VEVENT
END:VCALENDAR
