BEGIN:VCALENDAR
VERSION:2.0
PRODID:-//www.nplspa.org//NONSGML kigkonsult.se iCalcreator 2.30.10//
CALSCALE:GREGORIAN
METHOD:PUBLISH
UID:e153ff34-e832-4e8b-90d0-cac5167ade17
X-WR-CALDESC:NPLS information and presentation about pro bono service.
X-WR-RELCALID:602a3da43db29156a1a202588d9e75ea
X-WR-TIMEZONE:America/New_York
BEGIN:VTIMEZONE
TZID:America/New_York
BEGIN:STANDARD
TZNAME:EST
DTSTART:20231105T020000
TZOFFSETFROM:-0400
TZOFFSETTO:-0500
RDATE:20241103T020000
END:STANDARD
BEGIN:DAYLIGHT
TZNAME:EDT
DTSTART:20230312T020000
TZOFFSETFROM:-0500
TZOFFSETTO:-0400
RDATE:20240310T020000
RDATE:20250309T020000
END:DAYLIGHT
END:VTIMEZONE
BEGIN:VEVENT
UID:a6c32ca4-2cae-435c-a40a-b86fbffbb670
DTSTAMP:20260421T010954Z
DESCRIPTION:NPLS information and presentation about pro bono service.
DTSTART;TZID=America/New_York:20231109T060000
DTEND;TZID=America/New_York:20231109T060001
LOCATION:
SUMMARY:NPLS at Luzerne County Bench/Bar 2023
END:VEVENT
END:VCALENDAR
