BEGIN:VCALENDAR
VERSION:2.0
PRODID:-//www.nplspa.org//NONSGML kigkonsult.se iCalcreator 2.30.10//
CALSCALE:GREGORIAN
METHOD:PUBLISH
UID:1a558d99-ab41-4bba-b351-b98090399340
X-WR-CALDESC:Join North Penn Legal Services in partnership with Pennsylvani
 a CareerLink® Lehigh Valley for an in person workshop on Basic Landlord an
 d Tenant Rights. This workshop will discuss landlord and tenant rights and
  responsibilities including housing resources\, the eviction process\, rep
 airs\, avoiding owing money to landlords\, and more!\n\nThe workshop will 
 start promptly at  11:00 A.M. However\, there will be a 15 minute grace pe
 riod until 11:15 A.M. for late arrivals.
X-WR-RELCALID:3e31ae41b8bc42eb3d9ec84c87ca6fff
X-WR-TIMEZONE:America/New_York
BEGIN:VTIMEZONE
TZID:America/New_York
BEGIN:STANDARD
TZNAME:EST
DTSTART:20231105T020000
TZOFFSETFROM:-0400
TZOFFSETTO:-0500
RDATE:20241103T020000
END:STANDARD
BEGIN:DAYLIGHT
TZNAME:EDT
DTSTART:20230312T020000
TZOFFSETFROM:-0500
TZOFFSETTO:-0400
RDATE:20240310T020000
RDATE:20250309T020000
END:DAYLIGHT
END:VTIMEZONE
BEGIN:VEVENT
UID:a4f1f50b-c80d-4d34-9fb0-13075703b968
DTSTAMP:20260421T010728Z
DESCRIPTION:Join North Penn Legal Services in partnership with Pennsylvania
  CareerLink® Lehigh Valley for an in person workshop on Basic Landlord and
  Tenant Rights. This workshop will discuss landlord and tenant rights and 
 responsibilities including housing resources\, the eviction process\, repa
 irs\, avoiding owing money to landlords\, and more!\n\nThe workshop will s
 tart promptly at  11:00 A.M. However\, there will be a 15 minute grace per
 iod until 11:15 A.M. for late arrivals.
DTSTART;TZID=America/New_York:20231114T110000
DTEND;TZID=America/New_York:20231114T120000
LOCATION:PA CareerLink Lehigh Valley\, 555 Union Blvd.\, Allentown\, PA 181
 09 US
SUMMARY:NPLS at CareerLink Allentown - Basic Landlord Tenant Rights
END:VEVENT
END:VCALENDAR
