BEGIN:VCALENDAR
VERSION:2.0
PRODID:-//www.nplspa.org//NONSGML kigkonsult.se iCalcreator 2.30.10//
CALSCALE:GREGORIAN
METHOD:PUBLISH
UID:2e0d064b-e96c-41e6-bc74-dac314eedda7
X-WR-CALDESC:Presentation to Parents/Staff on the services provided by NPLS
  and public benefits updates.
X-WR-RELCALID:53a9adecacc80c09cb7b7a6e7a83bb11
X-WR-TIMEZONE:America/New_York
BEGIN:VTIMEZONE
TZID:America/New_York
BEGIN:STANDARD
TZNAME:EST
DTSTART:20231105T020000
TZOFFSETFROM:-0400
TZOFFSETTO:-0500
RDATE:20241103T020000
END:STANDARD
BEGIN:DAYLIGHT
TZNAME:EDT
DTSTART:20230312T020000
TZOFFSETFROM:-0500
TZOFFSETTO:-0400
RDATE:20240310T020000
RDATE:20250309T020000
END:DAYLIGHT
END:VTIMEZONE
BEGIN:VEVENT
UID:db7b18da-af83-4832-84f6-6c7a04d0f4a6
DTSTAMP:20260421T011040Z
DESCRIPTION:Presentation to Parents/Staff on the services provided by NPLS 
 and public benefits updates.
DTSTART;TZID=America/New_York:20231116T060000
DTEND;TZID=America/New_York:20231116T060001
LOCATION:
SUMMARY:NPLS at Danville Area Headstart
END:VEVENT
END:VCALENDAR
