BEGIN:VCALENDAR
VERSION:2.0
PRODID:-//www.nplspa.org//NONSGML kigkonsult.se iCalcreator 2.30.10//
CALSCALE:GREGORIAN
METHOD:PUBLISH
UID:138686a5-a938-4bda-8b02-d727e54218ab
X-WR-CALDESC:Presentation about Clean Slate.
X-WR-RELCALID:b35773a702b47e5a63cdba0385a54be0
X-WR-TIMEZONE:America/New_York
BEGIN:VTIMEZONE
TZID:America/New_York
BEGIN:STANDARD
TZNAME:EST
DTSTART:20231105T020000
TZOFFSETFROM:-0400
TZOFFSETTO:-0500
RDATE:20241103T020000
END:STANDARD
BEGIN:DAYLIGHT
TZNAME:EDT
DTSTART:20230312T020000
TZOFFSETFROM:-0500
TZOFFSETTO:-0400
RDATE:20240310T020000
RDATE:20250309T020000
END:DAYLIGHT
END:VTIMEZONE
BEGIN:VEVENT
UID:b5e06ede-8992-4ea5-8876-355724ab7ea3
DTSTAMP:20260421T011301Z
DESCRIPTION:Presentation about Clean Slate.
DTSTART;TZID=America/New_York:20231128T060000
DTEND;TZID=America/New_York:20231128T060001
LOCATION:
SUMMARY:NPLS at Salvation Army Allentown
END:VEVENT
END:VCALENDAR
