BEGIN:VCALENDAR
VERSION:2.0
PRODID:-//www.nplspa.org//NONSGML kigkonsult.se iCalcreator 2.30.10//
CALSCALE:GREGORIAN
METHOD:PUBLISH
UID:605c11e1-20d3-42f4-b25f-45b947544c04
X-WR-CALDESC:PFA presentation.
X-WR-RELCALID:feecef1d5611b0befc138314624ae789
X-WR-TIMEZONE:America/New_York
BEGIN:VTIMEZONE
TZID:America/New_York
BEGIN:STANDARD
TZNAME:EST
DTSTART:20231105T020000
TZOFFSETFROM:-0400
TZOFFSETTO:-0500
RDATE:20241103T020000
END:STANDARD
BEGIN:DAYLIGHT
TZNAME:EDT
DTSTART:20230312T020000
TZOFFSETFROM:-0500
TZOFFSETTO:-0400
RDATE:20240310T020000
RDATE:20250309T020000
END:DAYLIGHT
END:VTIMEZONE
BEGIN:VEVENT
UID:82c901ca-4485-4721-9abf-a983c2fee3f0
DTSTAMP:20260421T010858Z
DESCRIPTION:PFA presentation.
DTSTART;TZID=America/New_York:20231130T060000
DTEND;TZID=America/New_York:20231130T060001
LOCATION:
SUMMARY:NPLS at Luzerne Housing Authority
END:VEVENT
END:VCALENDAR
