BEGIN:VCALENDAR
VERSION:2.0
PRODID:-//www.nplspa.org//NONSGML kigkonsult.se iCalcreator 2.30.10//
CALSCALE:GREGORIAN
METHOD:PUBLISH
UID:0e2f5f46-c165-4fc6-83f4-7da785f2455f
X-WR-CALDESC:NPLS information and self-help materials will be available at 
 this event.
X-WR-RELCALID:4fcdd8552e46966cac8ac9088a0da08e
X-WR-TIMEZONE:America/New_York
BEGIN:VTIMEZONE
TZID:America/New_York
BEGIN:STANDARD
TZNAME:EST
DTSTART:20231105T020000
TZOFFSETFROM:-0400
TZOFFSETTO:-0500
RDATE:20241103T020000
END:STANDARD
BEGIN:DAYLIGHT
TZNAME:EDT
DTSTART:20230312T020000
TZOFFSETFROM:-0500
TZOFFSETTO:-0400
RDATE:20240310T020000
RDATE:20250309T020000
END:DAYLIGHT
END:VTIMEZONE
BEGIN:VEVENT
UID:94c33b74-7a5c-4b2c-b438-7d5e9d8a56c1
DTSTAMP:20260420T233247Z
DESCRIPTION:NPLS information and self-help materials will be available at t
 his event.
DTSTART;TZID=America/New_York:20231201T160000
DTEND;TZID=America/New_York:20231201T190000
LOCATION:
SUMMARY:NPLS at Tunkhannock Christmas in Our Hometown
END:VEVENT
END:VCALENDAR
