BEGIN:VCALENDAR
VERSION:2.0
PRODID:-//www.nplspa.org//NONSGML kigkonsult.se iCalcreator 2.30.10//
CALSCALE:GREGORIAN
METHOD:PUBLISH
UID:756ab191-d3da-4e36-ab63-e1d59497ec48
X-WR-CALDESC:Presentation about Clean Slate.
X-WR-RELCALID:0a12bfde02d1b23b28c160a6b9cd0a1a
X-WR-TIMEZONE:America/New_York
BEGIN:VTIMEZONE
TZID:America/New_York
BEGIN:STANDARD
TZNAME:EST
DTSTART:20231105T020000
TZOFFSETFROM:-0400
TZOFFSETTO:-0500
RDATE:20241103T020000
END:STANDARD
BEGIN:DAYLIGHT
TZNAME:EDT
DTSTART:20230312T020000
TZOFFSETFROM:-0500
TZOFFSETTO:-0400
RDATE:20240310T020000
RDATE:20250309T020000
END:DAYLIGHT
END:VTIMEZONE
BEGIN:VEVENT
UID:345c2e5d-5b20-449e-8f44-4c9b2adf0934
DTSTAMP:20260420T233437Z
DESCRIPTION:Presentation about Clean Slate.
DTSTART;TZID=America/New_York:20231218T060000
DTEND;TZID=America/New_York:20231218T060001
LOCATION:
SUMMARY:NPLS at Salvation Army Allentown
END:VEVENT
END:VCALENDAR
