BEGIN:VCALENDAR
VERSION:2.0
PRODID:-//www.nplspa.org//NONSGML kigkonsult.se iCalcreator 2.30.10//
CALSCALE:GREGORIAN
METHOD:PUBLISH
UID:3ffcc187-e0ad-490b-a2e6-0b00148ef9fc
X-WR-CALDESC:NPLS presentation to residents.
X-WR-RELCALID:a5b119519c7a514c95e034106a747073
X-WR-TIMEZONE:America/New_York
BEGIN:VTIMEZONE
TZID:America/New_York
BEGIN:STANDARD
TZNAME:EST
DTSTART:20231105T020000
TZOFFSETFROM:-0400
TZOFFSETTO:-0500
RDATE:20241103T020000
END:STANDARD
BEGIN:DAYLIGHT
TZNAME:EDT
DTSTART:20230312T020000
TZOFFSETFROM:-0500
TZOFFSETTO:-0400
RDATE:20240310T020000
RDATE:20250309T020000
END:DAYLIGHT
END:VTIMEZONE
BEGIN:VEVENT
UID:927d294e-b41d-4779-b6f8-2afc339122ef
DTSTAMP:20260420T234924Z
DESCRIPTION:NPLS presentation to residents.
DTSTART;TZID=America/New_York:20231220T060000
DTEND;TZID=America/New_York:20231220T060001
LOCATION:
SUMMARY:NPLS at SouthSide Lofts Bethlehem
END:VEVENT
END:VCALENDAR
