BEGIN:VCALENDAR
VERSION:2.0
PRODID:-//www.nplspa.org//NONSGML kigkonsult.se iCalcreator 2.30.10//
CALSCALE:GREGORIAN
METHOD:PUBLISH
UID:8377e8fd-540c-4b77-99f9-80e292764ad8
X-WR-CALDESC:The NPLS Legal Education Series in Williamsport will be held t
 he first Monday of the month starting January 2024\n\nThis month's topic: 
 Divorce
X-WR-RELCALID:c0971a8b4b4497ecb75130f9c46cb576
X-WR-TIMEZONE:America/New_York
BEGIN:VTIMEZONE
TZID:America/New_York
BEGIN:STANDARD
TZNAME:EST
DTSTART:20231105T020000
TZOFFSETFROM:-0400
TZOFFSETTO:-0500
RDATE:20241103T020000
END:STANDARD
BEGIN:DAYLIGHT
TZNAME:EDT
DTSTART:20230312T020000
TZOFFSETFROM:-0500
TZOFFSETTO:-0400
RDATE:20240310T020000
RDATE:20250309T020000
END:DAYLIGHT
END:VTIMEZONE
BEGIN:VEVENT
UID:20b08c5d-bb42-4c2a-99a3-cc3ad44da0a3
DTSTAMP:20260420T220442Z
DESCRIPTION:The NPLS Legal Education Series in Williamsport will be held th
 e first Monday of the month starting January 2024\n\nThis month's topic: D
 ivorce
DTSTART;TZID=America/New_York:20240108T133000
DTEND;TZID=America/New_York:20240108T143000
LOCATION:Lycoming County Courthouse Law Library\, 48 W 3rd St.\, Williamspo
 rt\, PA 17701 US
SUMMARY:NPLS Legal Education Series at Lycoming Law Library: Divorce
END:VEVENT
END:VCALENDAR
