BEGIN:VCALENDAR
VERSION:2.0
PRODID:-//www.nplspa.org//NONSGML kigkonsult.se iCalcreator 2.30.10//
CALSCALE:GREGORIAN
METHOD:PUBLISH
UID:9314c62a-c195-4565-9bd7-199b35a432d4
X-WR-CALDESC:NPLS Presentation -- Estate Planning: Wills and Power of Attor
 neys
X-WR-RELCALID:0ccad4ab80e8f0ccfbbd29b131847841
X-WR-TIMEZONE:America/New_York
BEGIN:VTIMEZONE
TZID:America/New_York
BEGIN:STANDARD
TZNAME:EST
DTSTART:20231105T020000
TZOFFSETFROM:-0400
TZOFFSETTO:-0500
RDATE:20241103T020000
END:STANDARD
BEGIN:DAYLIGHT
TZNAME:EDT
DTSTART:20230312T020000
TZOFFSETFROM:-0500
TZOFFSETTO:-0400
RDATE:20240310T020000
RDATE:20250309T020000
END:DAYLIGHT
END:VTIMEZONE
BEGIN:VEVENT
UID:89effa1d-ddf1-4519-9aef-763ca86efc36
DTSTAMP:20260420T221126Z
DESCRIPTION:NPLS Presentation -- Estate Planning: Wills and Power of Attorn
 eys
DTSTART;TZID=America/New_York:20240117T170000
DTEND;TZID=America/New_York:20240117T183000
LOCATION:The Green Free Library\, 134 Main Street\, Wellsboro\, PA 16901 US
SUMMARY:NPLS at the Green Free Library Wellsboro: Estate Planning
END:VEVENT
END:VCALENDAR
