BEGIN:VCALENDAR
VERSION:2.0
PRODID:-//www.nplspa.org//NONSGML kigkonsult.se iCalcreator 2.30.10//
CALSCALE:GREGORIAN
METHOD:PUBLISH
UID:b4f42123-9a69-41eb-a5ac-61e998dc0838
X-WR-CALDESC:NPLS Presentation -- Debt Collection Law: How to Stop Calls & 
 What to Expect in Court
X-WR-RELCALID:467e73b1b8f7e91e2bd34c200a1a6dca
X-WR-TIMEZONE:America/New_York
BEGIN:VTIMEZONE
TZID:America/New_York
BEGIN:STANDARD
TZNAME:EST
DTSTART:20231105T020000
TZOFFSETFROM:-0400
TZOFFSETTO:-0500
RDATE:20241103T020000
END:STANDARD
BEGIN:DAYLIGHT
TZNAME:EDT
DTSTART:20230312T020000
TZOFFSETFROM:-0500
TZOFFSETTO:-0400
RDATE:20240310T020000
RDATE:20250309T020000
END:DAYLIGHT
END:VTIMEZONE
BEGIN:VEVENT
UID:1a45a491-c23f-428a-b92e-5a3fa9152810
DTSTAMP:20260420T220934Z
DESCRIPTION:NPLS Presentation -- Debt Collection Law: How to Stop Calls & W
 hat to Expect in Court
DTSTART;TZID=America/New_York:20240131T170000
DTEND;TZID=America/New_York:20240131T183000
LOCATION:The Green Free Library\, 134 Main Street\, Wellsboro\, PA 16901 US
SUMMARY:NPLS at the Green Free Library Wellsboro: Debt Collection Law
END:VEVENT
END:VCALENDAR
