BEGIN:VCALENDAR
VERSION:2.0
PRODID:-//www.nplspa.org//NONSGML kigkonsult.se iCalcreator 2.30.10//
CALSCALE:GREGORIAN
METHOD:PUBLISH
UID:adcdfebf-b91d-41ce-90cd-2a07f9525302
X-WR-CALDESC:Is your criminal record preventing you from obtaining employme
 nt or housing? Are you eligible to expunge your criminal record or have it
  sealed or clean slated under Pennsylvania law?\n\nFind out by attending t
 he Expungement and Clean Slate Clinic at the NPLS office in Sunbury.\n\nYo
 u must call in advance to reserve a spot in the clinic. The intake number 
 is 877-953-4250\; ask to participate in the Sunbury Office Expungement Cli
 nic. The clinic is open to all eligible for services from North Penn Legal
  Services.
X-WR-RELCALID:9f8ef8e55638ddf06d8342e294c60829
X-WR-TIMEZONE:America/New_York
BEGIN:VTIMEZONE
TZID:America/New_York
BEGIN:STANDARD
TZNAME:EST
DTSTART:20231105T020000
TZOFFSETFROM:-0400
TZOFFSETTO:-0500
RDATE:20241103T020000
END:STANDARD
BEGIN:DAYLIGHT
TZNAME:EDT
DTSTART:20230312T020000
TZOFFSETFROM:-0500
TZOFFSETTO:-0400
RDATE:20240310T020000
RDATE:20250309T020000
END:DAYLIGHT
END:VTIMEZONE
BEGIN:VEVENT
UID:a4637c6e-65fc-46b0-9e13-4809ec332a3d
DTSTAMP:20260420T203453Z
DESCRIPTION:Is your criminal record preventing you from obtaining employmen
 t or housing? Are you eligible to expunge your criminal record or have it 
 sealed or clean slated under Pennsylvania law?\n\nFind out by attending th
 e Expungement and Clean Slate Clinic at the NPLS office in Sunbury.\n\nYou
  must call in advance to reserve a spot in the clinic. The intake number i
 s 877-953-4250\; ask to participate in the Sunbury Office Expungement Clin
 ic. The clinic is open to all eligible for services from North Penn Legal 
 Services.
DTSTART;TZID=America/New_York:20240201T110000
DTEND;TZID=America/New_York:20240201T120000
LOCATION:133 N 2nd Street\, Sunbury\, PA 17801 US
SUMMARY:Expungement and Clean Slate Clinic Clinic - NPLS Sunbury Office
END:VEVENT
END:VCALENDAR
