BEGIN:VCALENDAR
VERSION:2.0
PRODID:-//www.nplspa.org//NONSGML kigkonsult.se iCalcreator 2.30.10//
CALSCALE:GREGORIAN
METHOD:PUBLISH
UID:c94a2357-de1b-46b5-8bef-6717537fa6dd
X-WR-CALDESC:The NPLS Legal Education Series in Williamsport will be held t
 he first Monday of the month starting January 2024\n\nThis month's topic: 
 Custody
X-WR-RELCALID:8a5603a210a315ca2b35a409871db63a
X-WR-TIMEZONE:America/New_York
BEGIN:VTIMEZONE
TZID:America/New_York
BEGIN:STANDARD
TZNAME:EST
DTSTART:20231105T020000
TZOFFSETFROM:-0400
TZOFFSETTO:-0500
RDATE:20241103T020000
END:STANDARD
BEGIN:DAYLIGHT
TZNAME:EDT
DTSTART:20230312T020000
TZOFFSETFROM:-0500
TZOFFSETTO:-0400
RDATE:20240310T020000
RDATE:20250309T020000
END:DAYLIGHT
END:VTIMEZONE
BEGIN:VEVENT
UID:6ffd9b36-e694-4dba-9337-908560e0f6f5
DTSTAMP:20260420T203742Z
DESCRIPTION:The NPLS Legal Education Series in Williamsport will be held th
 e first Monday of the month starting January 2024\n\nThis month's topic: C
 ustody
DTSTART;TZID=America/New_York:20240205T133000
DTEND;TZID=America/New_York:20240205T143000
LOCATION:Lycoming County Courthouse Law Library\, 48 W 3rd St.\, Williamspo
 rt\, PA 17701 US
SUMMARY:NPLS Legal Education Series at Lycoming Law Library: Custody
END:VEVENT
END:VCALENDAR
