BEGIN:VCALENDAR
VERSION:2.0
PRODID:-//www.nplspa.org//NONSGML kigkonsult.se iCalcreator 2.30.10//
CALSCALE:GREGORIAN
METHOD:PUBLISH
UID:1068798b-18ff-4093-8258-5b6dfd3c0ec1
X-WR-CALDESC:NPLS Presentation -- Landlord-Tenant Law: Responsibilities of 
 Landlords vs. Tenants
X-WR-RELCALID:5f1e60ff38505e8796e8fc31adab3540
X-WR-TIMEZONE:America/New_York
BEGIN:VTIMEZONE
TZID:America/New_York
BEGIN:STANDARD
TZNAME:EST
DTSTART:20231105T020000
TZOFFSETFROM:-0400
TZOFFSETTO:-0500
RDATE:20241103T020000
END:STANDARD
BEGIN:DAYLIGHT
TZNAME:EDT
DTSTART:20230312T020000
TZOFFSETFROM:-0500
TZOFFSETTO:-0400
RDATE:20240310T020000
RDATE:20250309T020000
END:DAYLIGHT
END:VTIMEZONE
BEGIN:VEVENT
UID:0516d14e-89a2-41d9-955c-5d60271bc596
DTSTAMP:20260420T204039Z
DESCRIPTION:NPLS Presentation -- Landlord-Tenant Law: Responsibilities of L
 andlords vs. Tenants
DTSTART;TZID=America/New_York:20240214T170000
DTEND;TZID=America/New_York:20240214T183000
LOCATION:The Green Free Library\, 134 Main Street\, Wellsboro\, PA 16901 US
SUMMARY:NPLS at the Green Free Library Wellsboro: Landlord-Tenant Law
END:VEVENT
END:VCALENDAR
