BEGIN:VCALENDAR
VERSION:2.0
PRODID:-//www.nplspa.org//NONSGML kigkonsult.se iCalcreator 2.30.10//
CALSCALE:GREGORIAN
METHOD:PUBLISH
UID:a651f1fc-e00c-4bd2-92dc-915628062f07
X-WR-CALDESC:The NPLS Legal Education Series in Williamsport will be held t
 he first Monday of the month starting January 2024\n\nThis month's topic: 
 Landlord/Tenant/Eviction
X-WR-RELCALID:c3d5f6bb24cd8faf8d8c2816f9ab6cfb
X-WR-TIMEZONE:America/New_York
BEGIN:VTIMEZONE
TZID:America/New_York
BEGIN:STANDARD
TZNAME:EST
DTSTART:20231105T020000
TZOFFSETFROM:-0400
TZOFFSETTO:-0500
RDATE:20241103T020000
END:STANDARD
BEGIN:DAYLIGHT
TZNAME:EDT
DTSTART:20230312T020000
TZOFFSETFROM:-0500
TZOFFSETTO:-0400
RDATE:20240310T020000
RDATE:20250309T020000
END:DAYLIGHT
END:VTIMEZONE
BEGIN:VEVENT
UID:9d5ac813-882e-4af3-be86-6322ecf237b7
DTSTAMP:20260420T191544Z
DESCRIPTION:The NPLS Legal Education Series in Williamsport will be held th
 e first Monday of the month starting January 2024\n\nThis month's topic: L
 andlord/Tenant/Eviction
DTSTART;TZID=America/New_York:20240304T133000
DTEND;TZID=America/New_York:20240304T143000
LOCATION:Lycoming County Courthouse Law Library\, 48 W 3rd St.\, Williamspo
 rt\, PA 17701 US
SUMMARY:NPLS Legal Education Series at Lycoming Law Library: Landlord/Tenan
 t/Eviction
END:VEVENT
END:VCALENDAR
