BEGIN:VCALENDAR
VERSION:2.0
PRODID:-//www.nplspa.org//NONSGML kigkonsult.se iCalcreator 2.30.10//
CALSCALE:GREGORIAN
METHOD:PUBLISH
UID:6132a15f-987a-4796-ae7c-b0aa8a6fad7d
X-WR-CALDESC:Do you lease your apartment/home and need legal advice on the 
 lease contract?\n\nDo you have an outstanding credit card or loan issue an
 d need legal advice?\n\nNorth Penn Legal Services\, Inc. will hold a free 
 legal outreach on the campus of Penn State Wilkes-Barre on March 21\, 2024
  at 12:15 p.m.\n\nThe free outreach will review Landlord-Tenant issues and
  the law and Credit Card issues and the law as well as answer any of your 
 related questions.\n\nFree Legal Program on Landlord-Tenant and Credit Car
 d Issues\nThursday\, March 21\, 2024 at 12:15 p.m.\nNesbitt Academic Commo
 ns\, Classroom 107\nPenn State Wilkes-Barre Campus\n44 University Drive\, 
 Dallas\, PA 18612
X-WR-RELCALID:c1443c13b526e070a687d7ec62fe8104
X-WR-TIMEZONE:America/New_York
BEGIN:VTIMEZONE
TZID:America/New_York
BEGIN:STANDARD
TZNAME:EST
DTSTART:20231105T020000
TZOFFSETFROM:-0400
TZOFFSETTO:-0500
RDATE:20241103T020000
END:STANDARD
BEGIN:DAYLIGHT
TZNAME:EDT
DTSTART:20240310T020000
TZOFFSETFROM:-0500
TZOFFSETTO:-0400
RDATE:20250309T020000
END:DAYLIGHT
END:VTIMEZONE
BEGIN:VEVENT
UID:3299d2ec-ef68-4d5a-b0fc-69d1e68367bf
DTSTAMP:20260420T191507Z
DESCRIPTION:Do you lease your apartment/home and need legal advice on the l
 ease contract?\n\nDo you have an outstanding credit card or loan issue and
  need legal advice?\n\nNorth Penn Legal Services\, Inc. will hold a free l
 egal outreach on the campus of Penn State Wilkes-Barre on March 21\, 2024 
 at 12:15 p.m.\n\nThe free outreach will review Landlord-Tenant issues and 
 the law and Credit Card issues and the law as well as answer any of your r
 elated questions.\n\nFree Legal Program on Landlord-Tenant and Credit Card
  Issues\nThursday\, March 21\, 2024 at 12:15 p.m.\nNesbitt Academic Common
 s\, Classroom 107\nPenn State Wilkes-Barre Campus\n44 University Drive\, D
 allas\, PA 18612
DTSTART;TZID=America/New_York:20240321T120000
DTEND;TZID=America/New_York:20240321T133000
LOCATION:Nesbitt Academic Commons\, Classroom 107\, Penn State Wilkes-Barre
  Campus\, Dallas\, PA 18612 US
SUMMARY:NPLS at Penn State Wilkes-Barre - Free Legal Program on Landlord-Te
 nant and Credit Card Issues
END:VEVENT
END:VCALENDAR
