BEGIN:VCALENDAR
VERSION:2.0
PRODID:-//www.nplspa.org//NONSGML kigkonsult.se iCalcreator 2.30.10//
CALSCALE:GREGORIAN
METHOD:PUBLISH
UID:802bbfd7-2ed8-4ef7-90ef-90dfb5999a24
X-WR-CALDESC:
X-WR-RELCALID:15a4f7391ac06fef913eadfa2dd40a88
X-WR-TIMEZONE:America/New_York
BEGIN:VTIMEZONE
TZID:America/New_York
BEGIN:STANDARD
TZNAME:EST
DTSTART:20231105T020000
TZOFFSETFROM:-0400
TZOFFSETTO:-0500
RDATE:20241103T020000
END:STANDARD
BEGIN:DAYLIGHT
TZNAME:EDT
DTSTART:20240310T020000
TZOFFSETFROM:-0500
TZOFFSETTO:-0400
RDATE:20250309T020000
END:DAYLIGHT
END:VTIMEZONE
BEGIN:VEVENT
UID:ba0aca56-5c98-4975-afc9-a6ea44eee818
DTSTAMP:20260420T190948Z
DESCRIPTION:
DTSTART;TZID=America/New_York:20240321T170000
DTEND;TZID=America/New_York:20240321T180000
LOCATION:
SUMMARY:NPLS Board Meeting
END:VEVENT
END:VCALENDAR
