BEGIN:VCALENDAR
VERSION:2.0
PRODID:-//www.nplspa.org//NONSGML kigkonsult.se iCalcreator 2.30.10//
CALSCALE:GREGORIAN
METHOD:PUBLISH
UID:dea51646-c33e-4831-9e0c-444d1256a645
X-WR-CALDESC:Clean Slate overview.
X-WR-RELCALID:8aab70f513f003a4107007518764cd22
X-WR-TIMEZONE:America/New_York
BEGIN:VTIMEZONE
TZID:America/New_York
BEGIN:STANDARD
TZNAME:EST
DTSTART:20231105T020000
TZOFFSETFROM:-0400
TZOFFSETTO:-0500
RDATE:20241103T020000
END:STANDARD
BEGIN:DAYLIGHT
TZNAME:EDT
DTSTART:20240310T020000
TZOFFSETFROM:-0500
TZOFFSETTO:-0400
RDATE:20250309T020000
END:DAYLIGHT
END:VTIMEZONE
BEGIN:VEVENT
UID:7e5f2e91-7a58-4404-8ca1-936f28103e7a
DTSTAMP:20260420T191142Z
DESCRIPTION:Clean Slate overview.
DTSTART;TZID=America/New_York:20240325T060000
DTEND;TZID=America/New_York:20240325T060001
LOCATION:
SUMMARY:NPLS at Salvation Army Allentown
END:VEVENT
END:VCALENDAR
