BEGIN:VCALENDAR
VERSION:2.0
PRODID:-//www.nplspa.org//NONSGML kigkonsult.se iCalcreator 2.30.10//
CALSCALE:GREGORIAN
METHOD:PUBLISH
UID:99bffcf2-cfcf-474a-ad77-d1db350e7c64
X-WR-CALDESC:Join North Penn Legal Services in partnership with Pennsylvani
 a CareerLink® Lehigh Valley for an in-person workshop on the Clean Slate L
 aw.\n\nThis workshop will discuss the Clean Slate Law in Pennsylvania\, re
 cord expungement\, the Federal Bonding Program\, and more!\n\nThe workshop
  will start promptly at 11:00 A.M.
X-WR-RELCALID:39d46d0541f92d07af44979eb9f135c4
X-WR-TIMEZONE:America/New_York
BEGIN:VTIMEZONE
TZID:America/New_York
BEGIN:STANDARD
TZNAME:EST
DTSTART:20231105T020000
TZOFFSETFROM:-0400
TZOFFSETTO:-0500
RDATE:20241103T020000
END:STANDARD
BEGIN:DAYLIGHT
TZNAME:EDT
DTSTART:20240310T020000
TZOFFSETFROM:-0500
TZOFFSETTO:-0400
RDATE:20250309T020000
END:DAYLIGHT
END:VTIMEZONE
BEGIN:VEVENT
UID:69b8fe23-abe0-492a-a04f-122010cf9728
DTSTAMP:20260420T191110Z
DESCRIPTION:Join North Penn Legal Services in partnership with Pennsylvania
  CareerLink® Lehigh Valley for an in-person workshop on the Clean Slate La
 w.\n\nThis workshop will discuss the Clean Slate Law in Pennsylvania\, rec
 ord expungement\, the Federal Bonding Program\, and more!\n\nThe workshop 
 will start promptly at 11:00 A.M.
DTSTART;TZID=America/New_York:20240326T110000
DTEND;TZID=America/New_York:20240326T120000
LOCATION:PA CareerLink Lehigh Valley\, 555 Union Boulevard\, Allentown\, PA
  18109 US
SUMMARY:NPLS at CareerLink Lehigh Valley: Clean Slate Presentation
END:VEVENT
END:VCALENDAR
