BEGIN:VCALENDAR
VERSION:2.0
PRODID:-//www.nplspa.org//NONSGML kigkonsult.se iCalcreator 2.30.10//
CALSCALE:GREGORIAN
METHOD:PUBLISH
UID:a8270cf1-56e9-426e-85c4-398fb02dcbab
X-WR-CALDESC:NPLS Advocates will provide Housing information to the tenants
  of Luzerne County Housing Authority.
X-WR-RELCALID:ad9a66e93e9f13f7f30667c933cf9c96
X-WR-TIMEZONE:America/New_York
BEGIN:VTIMEZONE
TZID:America/New_York
BEGIN:STANDARD
TZNAME:EST
DTSTART:20231105T020000
TZOFFSETFROM:-0400
TZOFFSETTO:-0500
RDATE:20241103T020000
END:STANDARD
BEGIN:DAYLIGHT
TZNAME:EDT
DTSTART:20240310T020000
TZOFFSETFROM:-0500
TZOFFSETTO:-0400
RDATE:20250309T020000
END:DAYLIGHT
END:VTIMEZONE
BEGIN:VEVENT
UID:f957b335-6a1c-49c1-a9d1-07523081cb1d
DTSTAMP:20260420T191049Z
DESCRIPTION:NPLS Advocates will provide Housing information to the tenants 
 of Luzerne County Housing Authority.
DTSTART;TZID=America/New_York:20240328T060000
DTEND;TZID=America/New_York:20240328T060001
LOCATION:
SUMMARY:NPLS at Luzerne County Housing Authority - Kingston
END:VEVENT
END:VCALENDAR
