BEGIN:VCALENDAR
VERSION:2.0
PRODID:-//www.nplspa.org//NONSGML kigkonsult.se iCalcreator 2.30.10//
CALSCALE:GREGORIAN
METHOD:PUBLISH
UID:aaf54439-7580-40d9-a36e-262da2d9fda0
X-WR-CALDESC:The NPLS Legal Education Series in Williamsport will be held t
 he first Monday of the month starting January 2024\n\nThis month's topic: 
 Protection from Abuse
X-WR-RELCALID:59c185e3c53590beefff908d9f530b3d
X-WR-TIMEZONE:America/New_York
BEGIN:VTIMEZONE
TZID:America/New_York
BEGIN:STANDARD
TZNAME:EST
DTSTART:20231105T020000
TZOFFSETFROM:-0400
TZOFFSETTO:-0500
RDATE:20241103T020000
END:STANDARD
BEGIN:DAYLIGHT
TZNAME:EDT
DTSTART:20240310T020000
TZOFFSETFROM:-0500
TZOFFSETTO:-0400
RDATE:20250309T020000
END:DAYLIGHT
END:VTIMEZONE
BEGIN:VEVENT
UID:f4e669a6-779a-48a8-903b-2596baf46422
DTSTAMP:20260420T173927Z
DESCRIPTION:The NPLS Legal Education Series in Williamsport will be held th
 e first Monday of the month starting January 2024\n\nThis month's topic: P
 rotection from Abuse
DTSTART;TZID=America/New_York:20240401T133000
DTEND;TZID=America/New_York:20240401T143000
LOCATION:Lycoming County Courthouse Law Library\, 48 W 3rd St.\,  Williamsp
 ort\, PA 17701 US
SUMMARY:NPLS Legal Education Series at Lycoming Law Library: Protection fro
 m Abuse
END:VEVENT
END:VCALENDAR
