BEGIN:VCALENDAR
VERSION:2.0
PRODID:-//www.nplspa.org//NONSGML kigkonsult.se iCalcreator 2.30.10//
CALSCALE:GREGORIAN
METHOD:PUBLISH
UID:10aa0488-5a7b-4398-9f1d-b511a71d0783
X-WR-CALDESC:Join North Penn Legal Services during Fair Housing Awareness M
 onth for an overview of the role of the Pennsylvania Human Relations Commi
 ssion in addressing housing discrimination. This year we have the opportun
 ity to learn from Heather Roth\, Regional Director for the PHRC Harrisburg
  region. Ms. Roth will review the elements needed to prove a housing discr
 imination claim under the Pennsylvania Human Relations Act. She will also 
 provide an in-depth explanation of the life of a housing discrimination cl
 aim\, from filing to resolution.\n\nThis free distance-learning CLE is pre
 sented by North Penn Legal Services. \n1.5 Substantive CLE Credits for Att
 orneys
X-WR-RELCALID:9390b920a9bf55973db941d9e38e43c4
X-WR-TIMEZONE:America/New_York
BEGIN:VTIMEZONE
TZID:America/New_York
BEGIN:STANDARD
TZNAME:EST
DTSTART:20231105T020000
TZOFFSETFROM:-0400
TZOFFSETTO:-0500
RDATE:20241103T020000
END:STANDARD
BEGIN:DAYLIGHT
TZNAME:EDT
DTSTART:20240310T020000
TZOFFSETFROM:-0500
TZOFFSETTO:-0400
RDATE:20250309T020000
END:DAYLIGHT
END:VTIMEZONE
BEGIN:VEVENT
UID:d75c45cc-8874-46d2-aa4e-edab49ce1139
DTSTAMP:20260420T174909Z
DESCRIPTION:Join North Penn Legal Services during Fair Housing Awareness Mo
 nth for an overview of the role of the Pennsylvania Human Relations Commis
 sion in addressing housing discrimination. This year we have the opportuni
 ty to learn from Heather Roth\, Regional Director for the PHRC Harrisburg 
 region. Ms. Roth will review the elements needed to prove a housing discri
 mination claim under the Pennsylvania Human Relations Act. She will also p
 rovide an in-depth explanation of the life of a housing discrimination cla
 im\, from filing to resolution.\n\nThis free distance-learning CLE is pres
 ented by North Penn Legal Services. \n1.5 Substantive CLE Credits for Atto
 rneys
DTSTART;TZID=America/New_York:20240425T130000
DTEND;TZID=America/New_York:20240425T143000
LOCATION:https://tinyurl.com/FairHousing2024
SUMMARY:NPLS Fair Housing Month CLE - An Overview of the PHRC and the Path 
 of a PHRC Complaint
END:VEVENT
END:VCALENDAR
