BEGIN:VCALENDAR
VERSION:2.0
PRODID:-//www.nplspa.org//NONSGML kigkonsult.se iCalcreator 2.30.10//
CALSCALE:GREGORIAN
METHOD:PUBLISH
UID:ee9d5158-85dc-4fdc-bf33-558e80053a6a
X-WR-CALDESC:The NPLS Legal Education Series in Williamsport will be held t
 he first Monday of the month starting January 2024\n\nThis month's topic: 
 Magistrate Appeals
X-WR-RELCALID:acbc78264ac0b6bab5e71d5b591e5cd3
X-WR-TIMEZONE:America/New_York
BEGIN:VTIMEZONE
TZID:America/New_York
BEGIN:STANDARD
TZNAME:EST
DTSTART:20231105T020000
TZOFFSETFROM:-0400
TZOFFSETTO:-0500
RDATE:20241103T020000
RDATE:20251102T020000
END:STANDARD
BEGIN:DAYLIGHT
TZNAME:EDT
DTSTART:20240310T020000
TZOFFSETFROM:-0500
TZOFFSETTO:-0400
RDATE:20250309T020000
END:DAYLIGHT
END:VTIMEZONE
BEGIN:VEVENT
UID:8d51921e-612f-46cb-ba69-c647a03ec46d
DTSTAMP:20260420T191418Z
DESCRIPTION:The NPLS Legal Education Series in Williamsport will be held th
 e first Monday of the month starting January 2024\n\nThis month's topic: M
 agistrate Appeals
DTSTART;TZID=America/New_York:20240506T133000
DTEND;TZID=America/New_York:20240506T143000
LOCATION:Lycoming County Courthouse Law Library\,  48 W 3rd St.\, Williamsp
 ort\, PA 17701 US
SUMMARY:NPLS Legal Education Series at Lycoming Law Library: Magistrate App
 eals
END:VEVENT
END:VCALENDAR
