BEGIN:VCALENDAR
VERSION:2.0
PRODID:-//www.nplspa.org//NONSGML kigkonsult.se iCalcreator 2.30.10//
CALSCALE:GREGORIAN
METHOD:PUBLISH
UID:474581ca-c2fe-4c08-b59e-316f6a287166
X-WR-CALDESC:
X-WR-RELCALID:cd2f5f2c99fdb3df1b586bc05ad50f1c
X-WR-TIMEZONE:America/New_York
BEGIN:VTIMEZONE
TZID:America/New_York
BEGIN:STANDARD
TZNAME:EST
DTSTART:20231105T020000
TZOFFSETFROM:-0400
TZOFFSETTO:-0500
RDATE:20241103T020000
RDATE:20251102T020000
END:STANDARD
BEGIN:DAYLIGHT
TZNAME:EDT
DTSTART:20240310T020000
TZOFFSETFROM:-0500
TZOFFSETTO:-0400
RDATE:20250309T020000
END:DAYLIGHT
END:VTIMEZONE
BEGIN:VEVENT
UID:2598b884-7bf2-4794-9cef-6fcf077dc294
DTSTAMP:20260420T191024Z
DESCRIPTION:
DTSTART;TZID=America/New_York:20240523T170000
DTEND;TZID=America/New_York:20240523T180000
LOCATION:
SUMMARY:NPLS Board Meeting
END:VEVENT
END:VCALENDAR
