BEGIN:VCALENDAR
VERSION:2.0
PRODID:-//www.nplspa.org//NONSGML kigkonsult.se iCalcreator 2.30.10//
CALSCALE:GREGORIAN
METHOD:PUBLISH
UID:0c5090c1-0bb6-42d3-88ed-df4d0111511d
X-WR-CALDESC:Free Advice Workshop on Child Support\, Custody\, and Safety\,
  presented by North Penn Legal Services.
X-WR-RELCALID:1c030c3a74896856d3ddc054630aa565
X-WR-TIMEZONE:America/New_York
BEGIN:VTIMEZONE
TZID:America/New_York
BEGIN:STANDARD
TZNAME:EST
DTSTART:20231105T020000
TZOFFSETFROM:-0400
TZOFFSETTO:-0500
RDATE:20241103T020000
RDATE:20251102T020000
END:STANDARD
BEGIN:DAYLIGHT
TZNAME:EDT
DTSTART:20240310T020000
TZOFFSETFROM:-0500
TZOFFSETTO:-0400
RDATE:20250309T020000
END:DAYLIGHT
END:VTIMEZONE
BEGIN:VEVENT
UID:7913afa4-8968-434d-84f1-d81d9a2a03de
DTSTAMP:20260420T204105Z
DESCRIPTION:Free Advice Workshop on Child Support\, Custody\, and Safety\, 
 presented by North Penn Legal Services.
DTSTART;TZID=America/New_York:20240603T170000
DTEND;TZID=America/New_York:20240603T183000
LOCATION:19 E 4th Street\, Williamsport\, PA 17701 US
SUMMARY:NPLS at the James V. Brown Library\, Williamsport: Advice Workshop 
 on Child Support\, Custody\, and Safety
END:VEVENT
END:VCALENDAR
