BEGIN:VCALENDAR
VERSION:2.0
PRODID:-//www.nplspa.org//NONSGML kigkonsult.se iCalcreator 2.30.10//
CALSCALE:GREGORIAN
METHOD:PUBLISH
UID:46cc8934-0c65-4ac3-ab1f-435b1f230ccb
X-WR-CALDESC:The NPLS Legal Education Series in Williamsport will be held t
 he first Monday of the month starting January 2024\n\nThis month's topic: 
 Guardianship
X-WR-RELCALID:1e54932f75c4221f0b6cf52e516688d5
X-WR-TIMEZONE:America/New_York
BEGIN:VTIMEZONE
TZID:America/New_York
BEGIN:STANDARD
TZNAME:EST
DTSTART:20231105T020000
TZOFFSETFROM:-0400
TZOFFSETTO:-0500
RDATE:20241103T020000
RDATE:20251102T020000
END:STANDARD
BEGIN:DAYLIGHT
TZNAME:EDT
DTSTART:20240310T020000
TZOFFSETFROM:-0500
TZOFFSETTO:-0400
RDATE:20250309T020000
END:DAYLIGHT
END:VTIMEZONE
BEGIN:VEVENT
UID:086bdea2-0c83-4901-8bc6-b372dad1e97d
DTSTAMP:20260420T203753Z
DESCRIPTION:The NPLS Legal Education Series in Williamsport will be held th
 e first Monday of the month starting January 2024\n\nThis month's topic: G
 uardianship
DTSTART;TZID=America/New_York:20240603T133000
DTEND;TZID=America/New_York:20240603T143000
LOCATION:Lycoming County Courthouse Law Library\, 48 W 3rd St.\, Williamspo
 rt\, PA 17701 US
SUMMARY:NPLS Legal Education Series at Lycoming Law Library: Guardianship
END:VEVENT
END:VCALENDAR
